BEGIN:VCALENDAR
VERSION:2.0
PRODID:-//Black Rock Preschool - ECPv4.2.5//NONSGML v1.0//EN
CALSCALE:GREGORIAN
METHOD:PUBLISH
X-WR-CALNAME:Black Rock Preschool
X-ORIGINAL-URL:http://blackrockpreschool.com.au
X-WR-CALDESC:Events for Black Rock Preschool
BEGIN:VEVENT
DTSTART;TZID=UTC+0:20180131T083000
DTEND;TZID=UTC+0:20180131T130000
DTSTAMP:20180224T071757
CREATED:20171129T022949
LAST-MODIFIED:20171129T022949
UID:1031-1517387400-1517403600@blackrockpreschool.com.au
SUMMARY:Blue Dolphins Orientation Day
DESCRIPTION:
URL:http://blackrockpreschool.com.au/event/blue-dolphins-orientation-day/
END:VEVENT
BEGIN:VEVENT
DTSTART;TZID=UTC+0:20180201T083000
DTEND;TZID=UTC+0:20180201T160000
DTSTAMP:20180224T071757
CREATED:20171129T023024
LAST-MODIFIED:20171129T023237
UID:1033-1517473800-1517500800@blackrockpreschool.com.au
SUMMARY:Red Rosellas Orientation Day
DESCRIPTION:
URL:http://blackrockpreschool.com.au/event/red-rosellas-orientation-day/
END:VEVENT
BEGIN:VEVENT
DTSTART;TZID=UTC+0:20180202T083000
DTEND;TZID=UTC+0:20180202T160000
DTSTAMP:20180224T071757
CREATED:20171129T023145
LAST-MODIFIED:20171129T023145
UID:1035-1517560200-1517587200@blackrockpreschool.com.au
SUMMARY:Yellow Geckos Orientation Day
DESCRIPTION:
URL:http://blackrockpreschool.com.au/event/yellow-geckos-orientation-day/
END:VEVENT
BEGIN:VEVENT
DTSTART;TZID=UTC+0:20180205T083000
DTEND;TZID=UTC+0:20180205T160000
DTSTAMP:20180224T071757
CREATED:20171129T022454
LAST-MODIFIED:20171129T022735
UID:1024-1517819400-1517846400@blackrockpreschool.com.au
SUMMARY:Red Rosellas First Day
DESCRIPTION:
URL:http://blackrockpreschool.com.au/event/red-rosellas-first-day/
END:VEVENT
BEGIN:VEVENT
DTSTART;TZID=UTC+0:20180206T083000
DTEND;TZID=UTC+0:20180206T160000
DTSTAMP:20180224T071757
CREATED:20171129T022830
LAST-MODIFIED:20171129T022830
UID:1027-1517905800-1517932800@blackrockpreschool.com.au
SUMMARY:Yellow Geckos First Day
DESCRIPTION:
URL:http://blackrockpreschool.com.au/event/yellow-geckos-first-day/
END:VEVENT
BEGIN:VEVENT
DTSTART;TZID=UTC+0:20180207T083000
DTEND;TZID=UTC+0:20180207T130000
DTSTAMP:20180224T071757
CREATED:20171129T022906
LAST-MODIFIED:20171129T022906
UID:1029-1517992200-1518008400@blackrockpreschool.com.au
SUMMARY:Blue Dolphins First Day
DESCRIPTION:
URL:http://blackrockpreschool.com.au/event/blue-dolphins-first-day/
END:VEVENT
END:VCALENDAR